Workbook
Name grades: УПИТНИК!$O$13:$S$13

Sheet УПИТНИК
C3: Назив јавног предузећа | E3: ЈАВНО КОМУНАЛНО ПРЕДУЗЕЋЕ"7.ОКТОБАР"
C5: Датум | E5: 27.11.2023.
C7: Крајња оцена
C8: =($X$23*$I$13)+($X$39*$I$25)+($X$50*$I$42)+($X$63*$I$53)+($X$73*$I$65)+($X$89*$I$75)+($X$97*$I$91) -> 0.59959167
E10: (1) | G10: (2) | I10: (3) | K10: (4) | M10: (5)
E11: Главна оцена | G11: Међу-оцена | I11: Тежински фактор (пондер), % | K11: Појединачна оцена (у %) | M11: Коментари
T12: ○
I13: 0.15 | M13: Напомена: Уколико су одговори из одељка различити, појединачно их навести у поље "коментари". | O13: Не постоји пракса | P13: Пракса у формирању | Q13: У развијању | R13: Развијена пракса | S13: Најбоља пракса | T13: ◔ | U13: ◑ | V13: ◕ | W13: ●
B15: А.1. | C15: Оквир корпоративног управљања: 1.1) Оснивачким актом/ Статутом предузећа* успостављене су одговарајуће структуре и процеси корпоративног управљања; 1.2) Предузеће има усвојен етички кодекс (уколико има, у поље коментари написати ко га доноси и ко је задужен за примену истог); Етички кодекс дефинише скуп правила понашања која су прихватљива, односно неприхватљива; етички кодекс, посебно јасно забрањује поступања која могу довести предузеће у сферу недозвољених и незаконитих радњи; 1.3) Предузеће има усвојен кодекс корпоративног управљања (уколико има, у поље коментари написати ко га доноси и ко је задужен за примену истих); | E15: Пракса у формирању | G15: ◔ | I15: 25 | K15: =X15 -> 0.063 | M15: Коментари: | O15: =IF(E15=$O$13,0%,0) -> 0 | P15: =IF(E15=$P$13,6.3%,0) -> 0.063 | Q15: =IF(E15=$Q$13,31.3%,0) -> 0 | R15: =IF(E15=$R$13,56.3%,0) -> 0 | S15: =IF(E15=$S$13,81.3%,0) -> 0 | T15: =IF($G15=T$13,0%,0) -> 0 | U15: =IF($G15=U$13,6.3%,0) -> 0 | V15: =IF($G15=V$13,12.5%,0) -> 0 | W15: =IF($G15=W$13,18.8%,0) -> 0 | X15: =IF(E15=$O$13,0,(I15*(SUM(O15:S15)+SUM(T15:W15)))/I15) -> 0.063
B17: А.2. | C17: Функције корпоративног управљања: 2.1) Предузеће има формално уређене процедуре који регулишу сукобе интереса и уређен процес којим се обезбеђује примена ових процедура; 2.2) У предузећу постоји лице/одељење које се стара о раду, седницама, писању аката, организацији рада надзорног одбора/скупштине. | E17: У развијању | G17: ◑ | I17: 35 | K17: =X17 -> 0.376 | M17: Коментари: | O17: =IF(E17=$O$13,0%,0) -> 0 | P17: =IF(E17=$P$13,6.3%,0) -> 0 | Q17: =IF(E17=$Q$13,31.3%,0) -> 0.313 | R17: =IF(E17=$R$13,56.3%,0) -> 0 | S17: =IF(E17=$S$13,81.3%,0) -> 0 | T17: =IF($G17=T$13,0%,0) -> 0 | U17: =IF($G17=U$13,6.3%,0) -> 0.063 | V17: =IF($G17=V$13,12.5%,0) -> 0 | W17: =IF($G17=W$13,18.8%,0) -> 0 | X17: =IF(E17=$O$13,0,(I17*(SUM(O17:S17)+SUM(T17:W17)))/I17) -> 0.376
B19: А.3. | C19: Програм за унапређење корпоративног управљања: 3.1) Предузеће је усвојило/спроводи програм за унапређење принципа и процедура корпоративног управљања. 3.2) Програм обухвата анализу снаге и слабости корпоративног управљања у предузећу, укључујући примену мера, предложене временске рокове и јасну поделу одговорности. | E19: У развијању | G19: ◑ | I19: 20 | K19: =X19 -> 0.376 | M19: Коментари: | O19: =IF(E19=$O$13,0%,0) -> 0 | P19: =IF(E19=$P$13,6.3%,0) -> 0 | Q19: =IF(E19=$Q$13,31.3%,0) -> 0.313 | R19: =IF(E19=$R$13,56.3%,0) -> 0 | S19: =IF(E19=$S$13,81.3%,0) -> 0 | T19: =IF($G19=T$13,0%,0) -> 0 | U19: =IF($G19=U$13,6.3%,0) -> 0.063 | V19: =IF($G19=V$13,12.5%,0) -> 0 | W19: =IF($G19=W$13,18.8%,0) -> 0 | X19: =IF(E19=$O$13,0,(I19*(SUM(O19:S19)+SUM(T19:W19)))/I19) -> 0.376
B21: А.4. | C21: Обавештавање о питањима корпоративног управљања унутар предузећа и заинтересованих актера: 4.1) Предузеће обавештава интерне стране унутар предузећа и спољне заинтересоване стране о циљевима пословања,праксама и активностима које се односе на корпоративно управљање. 4.2) Предузеће има јасне процедуре путем којих запослени могу писменим или усменим путем да изнесу оправдану сумњу и доказ ако су уочили било какву незаконитост у пословању. | E21: Развијена пракса | G21: ◕ | I21: 20 | K21: =X21 -> 0.688 | M21: Коментари: | O21: =IF(E21=$O$13,0%,0) -> 0 | P21: =IF(E21=$P$13,6.3%,0) -> 0 | Q21: =IF(E21=$Q$13,31.3%,0) -> 0 | R21: =IF(E21=$R$13,56.3%,0) -> 0.563 | S21: =IF(E21=$S$13,81.3%,0) -> 0 | T21: =IF($G21=T$13,0%,0) -> 0 | U21: =IF($G21=U$13,6.3%,0) -> 0 | V21: =IF($G21=V$13,12.5%,0) -> 0.125 | W21: =IF($G21=W$13,18.8%,0) -> 0 | X21: =IF(E21=$O$13,0,(I21*(SUM(O21:S21)+SUM(T21:W21)))/I21) -> 0.688
C22: *У овом упитнику појам: "предузеће" се односи на све привредне субјекте на које се примењују Смернице за израду годишњег програма пословања за 2024. годину, односно трогодишњег програма пословања за период 2024 - 2026. године јавних предузећа и других облика организовања који обављају делатност од општег интереса.
I23: =SUM(I15:I21) -> 100 | K23: =X23 -> 0.37575 | X23: =AVERAGE(X15:X21) -> 0.37575
I25: 0.2 | O25: 1 | P25: 2 | Q25: 3 | R25: 4 | S25: 4
B27: Б.1 | C27: Састав: 1.1) Надзорни одбор (НО)/Скупштина друштва припрема и утврђује стратегију предузећа и надзире рад менаџмента тј. директора; 1.2) У предузећу су уређене интерне писане процедуре за чланове НО/Скупштине којим је утврђена обавеза да након ступања на функцију познају основне и стратешке акте, структуру организације и корпоративног управљања, одговорности и обавезе предузећа; 1.3) Лица у НО/Скупштини имају формално знање и искуство у области привредног сектора и корпоративног управљања; 1.4) Лица у НО/Скупштини имају континуирану додатну едукацију из области корпоративног управљања. | E27: Развијена пракса | G27: ◕ | I27: 20 | K27: =X27 -> 0.688 | M27: Коментари: | O27: =IF(E27=$O$13,0%,0) -> 0 | P27: =IF(E27=$P$13,6.3%,0) -> 0 | Q27: =IF(E27=$Q$13,31.3%,0) -> 0 | R27: =IF(E27=$R$13,56.3%,0) -> 0.563 | S27: =IF(E27=$S$13,81.3%,0) -> 0 | T27: =IF($G27=T$13,0%,0) -> 0 | U27: =IF($G27=U$13,6.3%,0) -> 0 | V27: =IF($G27=V$13,12.5%,0) -> 0.125 | W27: =IF($G27=W$13,18.8%,0) -> 0 | X27: =IF(E27=$O$13,0,(I27*(SUM(O27:S27)+SUM(T27:W27)))/I27) -> 0.688
B29: Б.2. | C29: Рад НО/Скупштине: 2.1) У предузећу постоји годишњи унапред дефинисани календар седница НО/Скупштине; 2.2) Дневни ред састанака и одговарајући пратећи материјал достављају се члановима НО/Скупштине довољно унапред како би могли да доносе одлуке; 2.3) Председник одбора је одговоран за ефикасност рада одбора и, кад је то потребно, у сарадњи с другим члановима одбора омогућава комуникацију са надлежним државним органом; | E29: Развијена пракса | G29: ◕ | I29: 20 | K29: =X29 -> 0.688 | M29: Коментари: | O29: =IF(E29=$O$13,0%,0) -> 0 | P29: =IF(E29=$P$13,6.3%,0) -> 0 | Q29: =IF(E29=$Q$13,31.3%,0) -> 0 | R29: =IF(E29=$R$13,56.3%,0) -> 0.563 | S29: =IF(E29=$S$13,81.3%,0) -> 0 | T29: =IF($G29=T$13,0%,0) -> 0 | U29: =IF($G29=U$13,6.3%,0) -> 0 | V29: =IF($G29=V$13,12.5%,0) -> 0.125 | W29: =IF($G29=W$13,18.8%,0) -> 0 | X29: =IF(E29=$O$13,0,(I29*(SUM(O29:S29)+SUM(T29:W29)))/I29) -> 0.688
B31: Б.3. | C31: Надлежности: 3.1) Сви чланови НО/Скупштине су активно укључени у сва важна питања, редовно информисани о значајним променама у пословању предузећа и спољном окружењу и поступају у најбољем интересу предузећа; 3.2) НО/Скупштина одобрава, прати и контролише стратегију у оквиру циљева предузећа и индикатора учинка; 3.3) НО/Скупштина идентификује кључне ризике и разрађује и надгледа делотворне политике и процедуре управљања финансијским и оперативним ризицима, али и ризицима који су везани за питања људских права, рада и животне средине; учествује у доношењу плана пословања од почетка процедуре. | E31: Развијена пракса | G31: ◕ | I31: 20 | K31: =X31 -> 0.688 | M31: Коментари: | O31: =IF(E31=$O$13,0%,0) -> 0 | P31: =IF(E31=$P$13,6.3%,0) -> 0 | Q31: =IF(E31=$Q$13,31.3%,0) -> 0 | R31: =IF(E31=$R$13,56.3%,0) -> 0.563 | S31: =IF(E31=$S$13,81.3%,0) -> 0 | T31: =IF($G31=T$13,0%,0) -> 0 | U31: =IF($G31=U$13,6.3%,0) -> 0 | V31: =IF($G31=V$13,12.5%,0) -> 0.125 | W31: =IF($G31=W$13,18.8%,0) -> 0 | X31: =IF(E31=$O$13,0,(I31*(SUM(O31:S31)+SUM(T31:W31)))/I31) -> 0.688
B33: Б.4. | C33: Комисија за ревизију НО**: 4.1) НО има Комисију за ревизију која је састављена је у складу са законом, а чланови комисије имају знања у области финансија и независни члан НО је председник Комисије; 4.2) Комисија за ревизију има пословник или одговарајући акт који јасно дефинише њене надлежности, делокруг рада и радне процедуре. | E33: Не постоји пракса | G33: ○ | I33: 20 | K33: =X33 -> 0 | M33: НО нема комисију за ревизију | O33: =IF(E33=$O$13,0%,0) -> 0 | P33: =IF(E33=$P$13,6.3%,0) -> 0 | Q33: =IF(E33=$Q$13,31.3%,0) -> 0 | R33: =IF(E33=$R$13,56.3%,0) -> 0 | S33: =IF(E33=$S$13,81.3%,0) -> 0 | T33: =IF($G33=T$13,0%,0) -> 0 | U33: =IF($G33=U$13,6.3%,0) -> 0 | V33: =IF($G33=V$13,12.5%,0) -> 0 | W33: =IF($G33=W$13,18.8%,0) -> 0 | X33: =IF(E33=$O$13,0,(I33*(SUM(O33:S33)+SUM(T33:W33)))/I33) -> 0
B35: Б.5 | C35: Управљање накнадама/зарадама: 5.1) НО/Скупштина управља процесом утврђивања висине накнада; 5.2) Надзорни одбор је надлежан за примену система тј. плана зарада у целом предузећу, активно надгледа концепт и делотворност система зарада, прати и контролише његову примену. | E35: Развијена пракса | G35: ◕ | I35: 10 | K35: =X35 -> 0.688 | M35: Коментари: | O35: =IF(E35=$O$13,0%,0) -> 0 | P35: =IF(E35=$P$13,6.3%,0) -> 0 | Q35: =IF(E35=$Q$13,31.3%,0) -> 0 | R35: =IF(E35=$R$13,56.3%,0) -> 0.563 | S35: =IF(E35=$S$13,81.3%,0) -> 0 | T35: =IF($G35=T$13,0%,0) -> 0 | U35: =IF($G35=U$13,6.3%,0) -> 0 | V35: =IF($G35=V$13,12.5%,0) -> 0.125 | W35: =IF($G35=W$13,18.8%,0) -> 0 | X35: =IF(E35=$O$13,0,(I35*(SUM(O35:S35)+SUM(T35:W35)))/I35) -> 0.688
B37: Б.6. | C37: Оцена рада и обука: 6.1) НО/Скупштина врши оцењивање свог укупног учинка. Резултати оцењивања су основа за конкретне предлоге за побољшање њиховог рада, као и за дефинисање области у којима би требало да добије даљу обуку; 6.2) Уводна обука организује се за корпоративно управљање за нове чланове, док се текућа обука организује према потреби, укључујући обуку о управљању и развоју. | E37: Не постоји пракса | G37: ○ | I37: 10 | K37: =X37 -> 0 | M37: Не постоји скупштина друштва капитала | O37: =IF(E37=$O$13,0%,0) -> 0 | P37: =IF(E37=$P$13,6.3%,0) -> 0 | Q37: =IF(E37=$Q$13,31.3%,0) -> 0 | R37: =IF(E37=$R$13,56.3%,0) -> 0 | S37: =IF(E37=$S$13,81.3%,0) -> 0 | T37: =IF($G37=T$13,0%,0) -> 0 | U37: =IF($G37=U$13,6.3%,0) -> 0 | V37: =IF($G37=V$13,12.5%,0) -> 0 | W37: =IF($G37=W$13,18.8%,0) -> 0 | X37: =IF(E37=$O$13,0,(I37*(SUM(O37:S37)+SUM(T37:W37)))/I37) -> 0
C38: * Овај одељак се односи на рад Надзорног одбора јавног предузећа и Скупштине друштва капитала, односно Надзорног одбора друштва капитала у дводомном систему управљања. **Питање се односи на Комисију за ревизију НО јавних предузећа и друштава капитала сходно Закону о привредним друштвима.
I39: =SUM(I27:I37) -> 100 | K39: =X39 -> 0.45866667 | X39: =AVERAGE(X27:X37) -> 0.45866667
I42: 0.15
B44: В.1. | C44: Састав и надлежности: 1.1) Структура и рад пословодства предузећа (директор и извршни директори/одбор директора) обезбеђује да се активности предузећа спроводе у складу с пословном стратегијом; 1.2) Пословодство благовремено делегира задужења запосленима и одређује руководећу структуру задужену за промовисање одговорности и транспарентности рада. | E44: Развијена пракса | G44: ◕ | I44: 35 | K44: =X44 -> 0.688 | M44: Коментари: | O44: =IF(E44=$O$13,0%,0) -> 0 | P44: =IF(E44=$P$13,6.3%,0) -> 0 | Q44: =IF(E44=$Q$13,31.3%,0) -> 0 | R44: =IF(E44=$R$13,56.3%,0) -> 0.563 | S44: =IF(E44=$S$13,81.3%,0) -> 0 | T44: =IF($G44=T$13,0%,0) -> 0 | U44: =IF($G44=U$13,6.3%,0) -> 0 | V44: =IF($G44=V$13,12.5%,0) -> 0.125 | W44: =IF($G44=W$13,18.8%,0) -> 0 | X44: =IF(E44=$O$13,0,(I44*(SUM(O44:S44)+SUM(T44:W44)))/I44) -> 0.688
B46: В.2. | C46: Организација: 2.1) Пословодство утврђује и усмерава укупну организациону структуру предузећа и њен развој; 2.2) Пословодство се стара да структура (и целине које чине ту структуру) буде адекватна, односно да не буде непотребно или непримерено сложена. | E46: Развијена пракса | G46: ◕ | I46: 35 | K46: =X46 -> 0.688 | M46: Коментари: | O46: =IF(E46=$O$13,0%,0) -> 0 | P46: =IF(E46=$P$13,6.3%,0) -> 0 | Q46: =IF(E46=$Q$13,31.3%,0) -> 0 | R46: =IF(E46=$R$13,56.3%,0) -> 0.563 | S46: =IF(E46=$S$13,81.3%,0) -> 0 | T46: =IF($G46=T$13,0%,0) -> 0 | U46: =IF($G46=U$13,6.3%,0) -> 0 | V46: =IF($G46=V$13,12.5%,0) -> 0.125 | W46: =IF($G46=W$13,18.8%,0) -> 0 | X46: =IF(E46=$O$13,0,(I46*(SUM(O46:S46)+SUM(T46:W46)))/I46) -> 0.688
B48: В.3. | C48: Однос са НО/Скупштином и Оснивачем: 3.1) Комуникација пословодства са НО/Скупштином се обавља на професионалан и конструктиван начин; 3.2) Пословодство даје НО/Скупштини информације потребне за рад; 3.3) Пословодство обезбеђује неопходне информације Оснивачу како би они били адекватно информисани о предузећу, његовим стратешким циљевима и плановима. | E48: Најбоља пракса | G48: ● | I48: 30 | K48: =X48 -> 1.001 | M48: Коментари: | O48: =IF(E48=$O$13,0%,0) -> 0 | P48: =IF(E48=$P$13,6.3%,0) -> 0 | Q48: =IF(E48=$Q$13,31.3%,0) -> 0 | R48: =IF(E48=$R$13,56.3%,0) -> 0 | S48: =IF(E48=$S$13,81.3%,0) -> 0.813 | T48: =IF($G48=T$13,0%,0) -> 0 | U48: =IF($G48=U$13,6.3%,0) -> 0 | V48: =IF($G48=V$13,12.5%,0) -> 0 | W48: =IF($G48=W$13,18.8%,0) -> 0.188 | X48: =IF(E48=$O$13,0,(I48*(SUM(O48:S48)+SUM(T48:W48)))/I48) -> 1.001
I50: =SUM(I44:I48) -> 100 | K50: =X50 -> 0.79233333 | X50: =AVERAGE(X43:X48) -> 0.79233333
I53: 0.15 | O53: 1 | P53: 2 | Q53: 3 | R53: 4 | S53: 4
B55: Г.1. | C55: Комерцијални и друштвени циљеви предузећа: 1.1) Циљ предузећа је јасно идентификован као 1) друштвени (нпр. обављање делатности од општег интереса) 2) комерцијални (уколико постоје) или 3) мешовити (комерцијално-друштвени). Ови циљеви су доступни и јавни; 1.2) Постоје јасни и разумљиви процеси у вези са дефинисањем комерцијалних циљева, укључујући анализу сектора у коме предузеће послује и друге економске анализе општег карактера. | E55: Развијена пракса | G55: ◕ | I55: 35 | K55: =X55 -> 0.688 | M55: Коментари: | O55: =IF(E55=$O$13,0%,0) -> 0 | P55: =IF(E55=$P$13,6.3%,0) -> 0 | Q55: =IF(E55=$Q$13,31.3%,0) -> 0 | R55: =IF(E55=$R$13,56.3%,0) -> 0.563 | S55: =IF(E55=$S$13,81.3%,0) -> 0 | T55: =IF($G55=T$13,0%,0) -> 0 | U55: =IF($G55=U$13,6.3%,0) -> 0 | V55: =IF($G55=V$13,12.5%,0) -> 0.125 | W55: =IF($G55=W$13,18.8%,0) -> 0 | X55: =IF(E55=$O$13,0,(I55*(SUM(O55:S55)+SUM(T55:W55)))/I55) -> 0.688
B57: Г.2. | C57: Процедуре: 2.1) Предузеће има јасно идентификоване процедуре за финансирање својих комерцијалних и друштвених циљева. Комерцијални циљеви се финансирају из средстава, односно капитала предузећа; 2.2) Предузеће у финансијским извештајима на адекватан начин вреднује и информише о трошковима друштвених активности тј. циљева. Трошкови испуњавања друштвених циљева предузећа вреднују се на основу међународно прихваћених књиговодствених, финансијских и економских техника и одвојено се приказују у финансијским извештајима. | E57: Развијена пракса | G57: ◕ | I57: 30 | K57: =X57 -> 0.688 | M57: Коментари: | O57: =IF(E57=$O$13,0%,0) -> 0 | P57: =IF(E57=$P$13,6.3%,0) -> 0 | Q57: =IF(E57=$Q$13,31.3%,0) -> 0 | R57: =IF(E57=$R$13,56.3%,0) -> 0.563 | S57: =IF(E57=$S$13,81.3%,0) -> 0 | T57: =IF($G57=T$13,0%,0) -> 0 | U57: =IF($G57=U$13,6.3%,0) -> 0 | V57: =IF($G57=V$13,12.5%,0) -> 0.125 | W57: =IF($G57=W$13,18.8%,0) -> 0 | X57: =IF(E57=$O$13,0,(I57*(SUM(O57:S57)+SUM(T57:W57)))/I57) -> 0.688
B59: Г.3. | C59: Финансирање: 3.1) У финансијским извештајима предузећа одвојено се извештава о ефектима који се остварују кроз давања Оснивача као што је финансирање тј. субвенционисање, давање обезбеђења (укључујући гаранције, јемства, авале) за комерцијалне активности предузећа. 3.2) Предузећа се суочавају с условима који владају на тржишту када је реч о приступу финансирању дуга и капитала. Односи предузећа са финансијским институцијама, као и са нефинансијским државним предузећима, засновани су на чисто комерцијалним односима, а предузећа не добијају никакву индиректну финансијску подршку или предност у односу на приватна предузећа, као што је на пример преференцијално финансирање, одложено плаћање пореза или преференцијални трговински кредити од других државних предузећа. | E59: Најбоља пракса | G59: ● | I59: 20 | K59: =X59 -> 1.001 | M59: Коментари: | O59: =IF(E59=$O$13,0%,0) -> 0 | P59: =IF(E59=$P$13,6.3%,0) -> 0 | Q59: =IF(E59=$Q$13,31.3%,0) -> 0 | R59: =IF(E59=$R$13,56.3%,0) -> 0 | S59: =IF(E59=$S$13,81.3%,0) -> 0.813 | T59: =IF($G59=T$13,0%,0) -> 0 | U59: =IF($G59=U$13,6.3%,0) -> 0 | V59: =IF($G59=V$13,12.5%,0) -> 0 | W59: =IF($G59=W$13,18.8%,0) -> 0.188 | X59: =IF(E59=$O$13,0,(I59*(SUM(O59:S59)+SUM(T59:W59)))/I59) -> 1.001
B61: Г.4. | C61: Професионалан избор финансијског директора: 4.1) Предузеће има јасну процедуру (у оквиру сектора људских ресурса) о успостављању комисије која именује/бира финансијског директора; 4.2) Предузеће има јасну политику која обезбеђује да се у процесу избора финансијског директора оцењује интегритет, стратешко размишљање и знање из области финансија свих потенцијалних кандидата. | E61: Не постоји пракса | G61: ○ | I61: 15 | K61: =X61 -> 0 | M61: Немамо праксу за избор финансијског директора | O61: =IF(E61=$O$13,0%,0) -> 0 | P61: =IF(E61=$P$13,6.3%,0) -> 0 | Q61: =IF(E61=$Q$13,31.3%,0) -> 0 | R61: =IF(E61=$R$13,56.3%,0) -> 0 | S61: =IF(E61=$S$13,81.3%,0) -> 0 | T61: =IF($G61=T$13,0%,0) -> 0 | U61: =IF($G61=U$13,6.3%,0) -> 0 | V61: =IF($G61=V$13,12.5%,0) -> 0 | W61: =IF($G61=W$13,18.8%,0) -> 0 | X61: =IF(E61=$O$13,0,(I61*(SUM(O61:S61)+SUM(T61:W61)))/I61) -> 0
I63: =SUM(I55:I62) -> 100 | K63: =X63 -> 0.59425 | X63: =AVERAGE(X55:X62) -> 0.59425
I65: 0.1 | O65: 1 | P65: 2 | Q65: 3 | R65: 4 | S65: 4
B67: Д.1. | C67: Јавност у раду: 1.1) предузеће објављује и редовно ажурира информације на својој интернет страници у складу са законом: 1) радне биографије чланова надзорног одбора, директора и извршних директора; 2) организациону структуру; 3) годишњи, односно трогодишњи програм пословања, као и све његове измене и допуне, односно извод из тог програма ако јавно предузеће има конкуренцију на тржишту; 4) тромесечне извештаје о реализацији годишњег, односно трогодишњег програма пословања; 5) годишњи финансијски извештај са мишљењем овлашћеног ревизора; 6) друге информације од значаја за јавност (уколико их има, описати укратко у поље: коментари). | E67: Развијена пракса | G67: ◕ | I67: 35 | K67: =X67 -> 0.688 | M67: информације о привремни прекидима снабдевања, обавештења о променама цена услуга, план јавних набавки, лицитација код продаје опреме, закупа пијачног простора ... | O67: =IF(E67=$O$13,0%,0) -> 0 | P67: =IF(E67=$P$13,6.3%,0) -> 0 | Q67: =IF(E67=$Q$13,31.3%,0) -> 0 | R67: =IF(E67=$R$13,56.3%,0) -> 0.563 | S67: =IF(E67=$S$13,81.3%,0) -> 0 | T67: =IF($G67=T$13,0%,0) -> 0 | U67: =IF($G67=U$13,6.3%,0) -> 0 | V67: =IF($G67=V$13,12.5%,0) -> 0.125 | W67: =IF($G67=W$13,18.8%,0) -> 0 | X67: =IF(E67=$O$13,0,(I67*(SUM(O67:S67)+SUM(T67:W67)))/I67) -> 0.688
B69: Д.2. | C69: Транспаретност за остале заинтересоване стране: 2.1) Садржај на интернет страници предузећа је разумљив и до информација се може једноставно приступити; 2.2) Предузеће обелодањује информације о финансијским и оперативним ризицима, а када је то релевантно и информације које су од материјалног значаја за предузеће. | E69: Најбоља пракса | G69: ● | I69: 35 | K69: =X69 -> 1.001 | M69: Коментари: | O69: =IF(E69=$O$13,0%,0) -> 0 | P69: =IF(E69=$P$13,6.3%,0) -> 0 | Q69: =IF(E69=$Q$13,31.3%,0) -> 0 | R69: =IF(E69=$R$13,56.3%,0) -> 0 | S69: =IF(E69=$S$13,81.3%,0) -> 0.813 | T69: =IF($G69=T$13,0%,0) -> 0 | U69: =IF($G69=U$13,6.3%,0) -> 0 | V69: =IF($G69=V$13,12.5%,0) -> 0 | W69: =IF($G69=W$13,18.8%,0) -> 0.188 | X69: =IF(E69=$O$13,0,(I69*(SUM(O69:S69)+SUM(T69:W69)))/I69) -> 1.001
B71: Д.3. | C71: Информатор о раду: 3.1) предузеће има информатор о раду који се редовно ажурира (уколико се објављује, уписати у колону: коментари). | E71: У развијању | G71: ◔ | I71: 30 | K71: =X71 -> 0.313 | M71: Коментари: | O71: =IF(E71=$O$13,0%,0) -> 0 | P71: =IF(E71=$P$13,6.3%,0) -> 0 | Q71: =IF(E71=$Q$13,31.3%,0) -> 0.313 | R71: =IF(E71=$R$13,56.3%,0) -> 0 | S71: =IF(E71=$S$13,81.3%,0) -> 0 | T71: =IF($G71=T$13,0%,0) -> 0 | U71: =IF($G71=U$13,6.3%,0) -> 0 | V71: =IF($G71=V$13,12.5%,0) -> 0 | W71: =IF($G71=W$13,18.8%,0) -> 0 | X71: =IF(E71=$O$13,0,(I71*(SUM(O71:S71)+SUM(T71:W71)))/I71) -> 0.313
I73: =SUM(I67:I71) -> 100 | K73: =X73 -> 0.66733333 | X73: =AVERAGE(X66:X71) -> 0.66733333
I75: 0.15 | O75: 1 | P75: 2 | Q75: 3 | R75: 4 | S75: 4
...

Sheet ГРАФИКОН
B4: Назив јавног предузећа: | C4: =IF(УПИТНИК!E3>0,УПИТНИК!E3,"") -> ЈАВНО КОМУНАЛНО ПРЕДУЗЕЋЕ"7.ОКТОБАР"
B6: Датум: | C6: =IF(УПИТНИК!E5>0,УПИТНИК!E5,"") -> 27.11.2023.
B7: Преглед резултата и коначна оцена
G8: 1
B9: =УПИТНИК!$C$8 -> 0.59959167 | G9: 0
N14: Коначна оцена предузећа | O14: =M22 -> 0.59959167
K15: A. Посвећеност принципима кор.управљања | L15: =УПИТНИК!$I$13 -> 0.15 | M15: =УПИТНИК!$X$23 -> 0.37575 | N15: Е. Права оснивача и заинтересованих страна | O15: =M21 -> 1.001
K16: Б. Надзорни одбор | L16: =УПИТНИК!$I$25 -> 0.2 | M16: =УПИТНИК!$X$39 -> 0.45866667 | N16: Ђ. Контролно окружење и процеси | O16: =M20 -> 0.51116667
K17: В. Извршни органи | L17: =УПИТНИК!$I$42 -> 0.15 | M17: =УПИТНИК!X50 -> 0.79233333 | N17: Д. Транспарентност и јавност пословања | O17: =M19 -> 0.66733333
K18: Г. Финансијска дисциплина | L18: =УПИТНИК!$I$53 -> 0.15 | M18: =УПИТНИК!$X$63 -> 0.59425 | N18: Г. Финансијска дисциплина | O18: =M18 -> 0.59425
K19: Д. Транспарентност и јавност пословања | L19: =УПИТНИК!$I$65 -> 0.1 | M19: =УПИТНИК!$X$73 -> 0.66733333 | N19: В. Извршни органи | O19: =M17 -> 0.79233333
K20: Ђ. Контролно окружење и процеси | L20: =УПИТНИК!$I$91 -> 0.1 | M20: =УПИТНИК!$X$89 -> 0.51116667 | N20: Б. Надзорни одбор | O20: =M16 -> 0.45866667
K21: Е. Права оснивача и заинтересованих страна | L21: =УПИТНИК!$I$91 -> 0.1 | M21: =УПИТНИК!$X$97 -> 1.001 | N21: A. Посвећеност принципима кор.управљања | O21: =M15 -> 0.37575
K22: Коначна оцена предузећа | M22: =УПИТНИК!$C$8 -> 0.59959167 | N22: Коначна оцена предузећа | O22: =100%-O14 -> 0.40040833

Sheet Sheet1
A1: ПЛАН ПРИХОДА ЗА 2024
A2: Редни | C2: Опис | D2: Реализација | E2: План | F2: Реализација | G2: Процена | H2: План | I2: Индекс | J2: Индекс
A3: број | B3: рачун | D3: 2022 | E3: 2023 | F3: јан-септ | G3: 2023 | H3: 2024
A4: 1 | C4: 2 | D4: 3 | E4: 5 | F4: 6 | G4: 7 | H4: 8 | I4: 9(7/5) | J4: 10(8/7)
A5: 1 | B5: 604 | C5: Јавно снабдевање природим гасом | D5: 64753066 | E5: 66144748 | F5: 45502926 | G5: 68911390 | H5: 89504810 | I5: =G5/E5*100 -> 104.18271 | J5: =H5/G5*100 -> 129.88391
A6: 2 | B6: 604 | C6: Приходи од продаје секундарних сировина
A7: 3 | B7: 614 | C7: Водоинсталатерске услуге | D7: 2463916.9 | E7: 3900000 | F7: 1889663.6 | G7: 2500000 | H7: 4099130 | I7: =G7/E7*100 -> 64.102564 | J7: =H7/G7*100 -> 163.9652
A8: 4 | C8: Приход од фиксне накнаде за водомере | D8: 4464029.7 | E8: 6158000 | F8: 3928217.3 | G8: 5250000 | H8: 6516566 | I8: =G8/E8*100 -> 85.254953 | J8: =H8/G8*100 -> 124.12507
A9: 5 | B9: 614 | C9: Дистрибуција воде | D9: 30023350 | E9: 36813000 | F9: 22336592 | G9: 30100000 | H9: 37838126 | I9: =G9/E9*100 -> 81.764594 | J9: =H9/G9*100 -> 125.70806
A10: 6 | B10: 614 | C10: Приход дистрибуције гаса | D10: 4465969.3 | E10: 5500000 | F10: 3258692 | G10: 5021680 | H10: 6127254 | I10: =G10/E10*100 -> 91.303273 | J10: =H10/G10*100 -> 122.01602
A11: 7 | B11: 614 | C11: Изношење,одвођење отпадних вода | D11: 8809328.1 | E11: 9966858 | F11: 7025656.7 | G11: 9244000 | H11: 10405484 | I11: =G11/E11*100 -> 92.747383 | J11: =H11/G11*100 -> 112.56473
A12: 8 | B12: 614 | C12: Изношење отпада | D12: 19811755 | E12: 25313570 | F12: 16265596 | G12: 22000000 | H12: 26591795 | I12: =G12/E12*100 -> 86.909906 | J12: =H12/G12*100 -> 120.8718
A13: 9 | B13: 614 | C13: Одржавање зеленила и чистоће | D13: 18988524 | E13: 18772720 | F13: 14111035 | G13: 19800000 | H13: 20916075 | I13: =G13/E13*100 -> 105.4722 | J13: =H13/G13*100 -> 105.63674
A14: 10 | B14: 614 | C14: Одржавање степ.и освет. | D14: 939228.48 | E14: 1009728 | F14: 694807.08 | G14: 918000 | H14: 157659 | I14: =G14/E14*100 -> 90.915573 | J14: =H14/G14*100 -> 17.174183
A15: 11 | B15: 614 | C15: Пијачарина | D15: 704499.66 | E15: 757296 | F15: 459030.24 | G15: 660000 | H15: 840847 | I15: =G15/E15*100 -> 87.152184 | J15: =H15/G15*100 -> 127.40106
A16: 12 | B16: 614 | C16: Приход од грађевинских радова | D16: 3552940 | E16: 3155000 | F16: 1574477.9 | G16: 4600000 | H16: 5255295 | I16: =G16/E16*100 -> 145.80032 | J16: =H16/G16*100 -> 114.24554
C17: Приход од осталих услзга | D17: 16320 | G17: 130290 | J17: =H17/G17*100 -> 0
A18: 13 | B18: 614 | C18: Приход од погребних услуга | D18: 1194587.3 | E18: 1600000 | F18: 718166.85 | G18: 950000 | H18: 1500000 | I18: =G18/E18*100 -> 59.375 | J18: =H18/G18*100 -> 157.89474
A19: 14 | B19: 621 | C19: Приходи од активирања учинака | D19: 1095142 | E19: 837600 | G19: 1100000 | H19: 1100000 | I19: =G19/E19*100 -> 131.3276 | J19: =H19/G19*100 -> 100
A20: 15 | B20: 640 | C20: Приходи од субвенција
A21: 16 | B21: 640 | C21: Приходи од дотација-Национална служ. | D21: 1835541.1 | F21: 1729385 | G21: 1956369.8
A22: 17 | B22: 640 | C22: Приходи од донација
A23: 18 | B23: 650 | C23: Приходи од закупнина | D23: 896554.43 | E23: 1151700 | F23: 677021.55 | G23: 890000 | H23: 1100000 | I23: =G23/E23*100 -> 77.277069 | J23: =H23/G23*100 -> 123.59551
A24: 19 | B24: 659 | C24: Остали пословни приходи
A25: 20 | B25: 662 | C25: Приходи од камата | D25: 882306.03 | E25: 1047000 | F25: 769863.1 | G25: 1000000 | H25: 1420000 | I25: =G25/E25*100 -> 95.510984 | J25: =H25/G25*100 -> 142
A26: 21 | B26: 670 | C26: Добици по основу продаје опреме | D26: 162782.58 | F26: 250000 | G26: 250000
A27: 22 | B27: 675 | C27: Наплаћена отписана потр. | D27: 63958.18 | E27: 104700 | F27: 22796.66 | G27: 104700 | H27: 105000 | I27: =G27/E27*100 -> 100 | J27: =H27/G27*100 -> 100.28653
A28: 23 | B28: 677 | C28: Приходи од смањења обавеза | D28: 714.07
A29: 24 | B29: 678 | C29: Приходи од укидања резервис.за отпремнине | D29: 134199.76
A30: 25 | B30: 679 | C30: Приходи од накнаде штете | D30: 272950 | E30: 314100 | F30: 26189 | G30: 100000 | H30: 250000 | I30: =G30/E30*100 -> 31.836995 | J30: =H30/G30*100 -> 250
A31: 26 | B31: 679 | C31: Остали приходи | D31: 97890.85 | E31: 104700 | F31: 65517.68 | G31: 104700 | H31: 100000 | I31: =G31/E31*100 -> 100 | J31: =H31/G31*100 -> 95.510984
A32: 27 | B32: 685 | C32: Приходи од ускл.вредн.потраживања | D32: 1422363.2 | E32: 209400 | F32: 37452.22 | G32: 1200000 | H32: 1400000 | I32: =G32/E32*100 -> 573.0659 | J32: =H32/G32*100 -> 116.66667
C33: УКУПНО: | D33: =SUM(D5:D32) -> 1.6705192e+08 | E33: =SUM(E5:E32) -> 182860120 | F33: =SUM(F5:F32) -> 1.2134309e+08 | G33: =SUM(G5:G32) -> 1.7679113e+08 | H33: =SUM(H5:H32) -> 215228041 | I33: =G33/E33*100 -> 96.681075 | J33: =H33/G33*100 -> 121.74143

Sheet Sheet2
A1: ПЛАН ТРОШКОВА И РАСХОДА ЗА 2024
A2: Ред | C2: Опис | D2: Реализација | E2: План | F2: Реализација | G2: Процена 2023 | H2: План 2024 | I2: ИНДЕКС | J2: ИНДЕКС | K2: ИНДЕКС
A3: број | B3: рачун | D3: 2022 | E3: 2023 | F3: 2023(I-IX)
A4: 1 | C4: 2 | D4: 5 | E4: 6 | F4: 7 | G4: 8 | H4: 9 | I4: 10(7/6) | J4: 11(8/6) | K4: 12(9/8)
A5: 1 | C5: Набавна вредост природног гаса | D5: 56467101 | E5: 54035627 | F5: 40876353 | G5: 62747012 | H5: 83358762 | I5: =F5/E5*100 -> 75.647042 | J5: =G5/E5*100 -> 116.12156 | K5: =H5/G5*100 -> 132.84897
A6: 2 | C6: Утрош. матер. рез. делови, алат
A7: 2.1 | B7: 5120 | C7: Трошкови основног материјала за израду | D7: 5979787.9 | E7: 7300000 | F7: 3615259.4 | G7: 6600000 | H7: 9350000 | I7: =F7/E7*100 -> 49.524102 | J7: =G7/E7*100 -> 90.410959 | K7: =H7/G7*100 -> 141.66667
A8: 2.2 | B8: 5140 | C8: Трошкови резервних делова | D8: 2495066.2 | E8: 2900000 | F8: 2430528.3 | G8: 2900000 | H8: 2800000 | I8: =F8/E8*100 -> 83.811322 | J8: =G8/E8*100 -> 100 | K8: =H8/G8*100 -> 96.551724
A9: 2.3 | B9: 5150 | C9: Трошкови једнократног отписа ал.и инв. | D9: 858080.12 | E9: 1300000 | F9: 707981.85 | G9: 1300000 | H9: 1300000 | I9: =F9/E9*100 -> 54.460142 | J9: =G9/E9*100 -> 100 | K9: =H9/G9*100 -> 100
A10: 3 | B10: 5123 | C10: Трошкови канцеларијског материјала | D10: 107032.36 | E10: 200000 | F10: 446570.3 | G10: 590000 | H10: 500000 | I10: =F10/E10*100 -> 223.28515 | J10: =G10/E10*100 -> 295 | K10: =H10/G10*100 -> 84.745763
A11: 4 | B11: 5124 | C11: Трошкови заштитне опреме (рукавице) | F11: 4966.67
A12: 5 | B12: 5125 | C12: Трошкови матер.за одржавање хигијене | D12: 134384.93 | E12: 170000 | F12: 106960.3 | G12: 120000 | H12: 140000 | I12: =F12/E12*100 -> 62.917824 | J12: =G12/E12*100 -> 70.588235 | K12: =H12/G12*100 -> 116.66667
A13: 6 | C13: Трошкови горива и мазива
A14: 6.1 | B14: 5130 | C14: Трошкови горива и мазива за возила | D14: 6627468.3 | E14: 7550000 | F14: 4925029.6 | G14: 6700000 | H14: 6700000 | I14: =F14/E14*100 -> 65.232181 | J14: =G14/E14*100 -> 88.741722 | K14: =H14/G14*100 -> 100
A15: 6.2 | B15: 5132 | C15: Трошкови ТНГ аутогаса | D15: 1666 | F15: 1666.5 | G15: 2000
A16: 7 | B16: 5133 | C16: Трошкови електричне енергије | D16: 7087811.6 | E16: 9000000 | F16: 5894040.8 | G16: 8000000 | H16: 8200000 | I16: =F16/E16*100 -> 65.489342 | J16: =G16/E16*100 -> 88.888889 | K16: =H16/G16*100 -> 102.5
A17: 8 | B17: 5200 | C17: Трошкови бруто зарада | D17: 50242194 | E17: 56259123 | F17: 39793668 | G17: 54061235 | H17: 61896254 | I17: =F17/E17*100 -> 70.732827 | J17: =G17/E17*100 -> 96.093277 | K17: =H17/G17*100 -> 114.49286
A18: 9 | C18: Трошкови доприноса на терет посл.
A19: 9.1 | B19: 5210 | C19: Трошкови доприноса ПИО на терет посл. | D19: 5485082.1 | E19: 5625912 | F19: 3979366.6 | G19: =G17*10/100 -> 5406123.5 | H19: =H17*10/100 -> 6189625.4 | I19: =F19/E19*100 -> 70.732826 | J19: =G19/E19*100 -> 96.093282 | K19: =H19/G19*100 -> 114.49286
A20: 9.2 | B20: 5212 | C20: Трошкови доприноса за ЗДРАВ. на терет посл. | D20: 2587473 | E20: 2897345 | F20: 2049373.9 | G20: =G17*5.15/100 -> 2784153.6 | H20: =H17*5.15/100 -> 3187657.1 | I20: =F20/E20*100 -> 70.732822 | J20: =G20/E20*100 -> 96.093272 | K20: =H20/G20*100 -> 114.49286
A21: 9.3 | B21: 5213 | C21: Трошкови доп.за незапосл.на терет посл.
A22: 10 | C22: Накнаде по основу уговора
A23: 10.1 | B23: 5220 | C23: Трошкови накнада по уговора о делу
A24: 10.2 | B24: 5240 | C24: Трошкови накнад.привр.и повр.послови | D24: 2468747.9 | E24: 3484676 | F24: 1802314.5 | G24: 2430000 | H24: 2781922 | I24: =F24/E24*100 -> 51.721151 | J24: =G24/E24*100 -> 69.733886 | K24: =H24/G24*100 -> 114.48239
B25: 5252 | C25: Трошкови накнада физ.лицима по основу ост.уговора | D25: 1815681.2 | F25: 1729385 | G25: 1956369.8 | K25: =H25/G25*100 -> 0
A26: 11 | B26: 5260 | C26: Трошкови накнада чланова НО | D26: 182812.5 | E26: 224840 | F26: 128086.32 | G26: 168210 | H26: 240741 | I26: =F26/E26*100 -> 56.967764 | J26: =G26/E26*100 -> 74.8132 | K26: =H26/G26*100 -> 143.11932
A27: 12 | B27: 52901 | C27: Отпремнинe | D27: 288705.2 | E27: 400000 | F27: 71291.85 | G27: 110000 | H27: 200000 | I27: =F27/E27*100 -> 17.822962 | J27: =G27/E27*100 -> 27.5 | K27: =H27/G27*100 -> 181.81818
A28: 13 | B28: 52903 | C28: Јубиларна награда | D28: 440452.79 | E28: 140000 | F28: 126638.88 | G28: 126638.88 | I28: =F28/E28*100 -> 90.456343 | J28: =G28/E28*100 -> 90.456343 | K28: =H28/G28*100 -> 0
A29: 14 | B29: 52904-52905 | C29: Солидарна пмоћ | D29: 965356 | E29: 500000 | F29: 272244 | G29: 272244 | H29: 280000 | I29: =F29/E29*100 -> 54.4488 | J29: =G29/E29*100 -> 54.4488 | K29: =H29/G29*100 -> 102.84891
A30: 15 | B30: 52910 | C30: Накнада трошк.превоза на рад и са рада | D30: 1017295 | E30: 1884840 | F30: 1774213 | G30: 2440000 | H30: 4060000 | I30: =F30/E30*100 -> 94.130695 | J30: =G30/E30*100 -> 129.45396 | K30: =H30/G30*100 -> 166.39344
A31: 16 | B31: 52911 | C31: Накнада за смештај и исхр.сл.путу | D31: 12053 | E31: 40000 | F31: 20566 | G31: 30000 | H31: 40000 | I31: =F31/E31*100 -> 51.415 | J31: =G31/E31*100 -> 75 | K31: =H31/G31*100 -> 133.33333
A32: 17 | B32: 5294 | C32: Награде, солидар.пoмоћ и остaло лицимa која нису зап. | D32: 7962.46
A33: 18 | B33: 52920 | C33: Осталих прим. Запослених (покл. деци) | D33: 60000 | E33: 60000 | G33: 60000 | H33: 60000 | I33: =F33/E33*100 -> 0 | J33: =G33/E33*100 -> 100 | K33: =H33/G33*100 -> 100
A34: 19 | B34: 5300 | C34: Трошкови производних услуга на изради учинака | D34: 1146490 | E34: 600000 | F34: 12000 | G34: 100000 | H34: 500000 | I34: =F34/E34*100 -> 2 | J34: =G34/E34*100 -> 16.666667 | K34: =H34/G34*100 -> 500
A35: 20 | C35: Трошкови птт услуга и телефона
A36: 20.1 | B36: 5310 | C36: Трошкови ПТТ услуга | D36: 117281 | E36: 140000 | F36: 73090 | G36: 120000 | H36: 120000 | I36: =F36/E36*100 -> 52.207143 | J36: =G36/E36*100 -> 85.714286 | K36: =H36/G36*100 -> 100
A37: 20.2 | B37: 5311 | C37: Трошкови услуга превоза | D37: 22634.98 | E37: 30000 | F37: 17655.61 | G37: 20000 | H37: 30000 | I37: =F37/E37*100 -> 58.852033 | J37: =G37/E37*100 -> 66.666667 | K37: =H37/G37*100 -> 150
A38: 20.3 | B38: 5396 | C38: Трошкови телефонских услуга | D38: 335729.5 | E38: 350000 | F38: 222538.2 | G38: 350000 | H38: 492000 | I38: =F38/E38*100 -> 63.582343 | J38: =G38/E38*100 -> 100 | K38: =H38/G38*100 -> 140.57143
A39: 21 | B39: 5320 | C39: Трошкови произв усл.и услуга одржавања | D39: 6171376.8 | E39: 6120000 | F39: 2626706.6 | G39: 3600000 | H39: 5978000 | I39: =F39/E39*100 -> 42.920043 | J39: =G39/E39*100 -> 58.823529 | K39: =H39/G39*100 -> 166.05556
A40: 22 | B40: 533 | C40: Трошкови закупнина
...

Sheet Sheet3
F1: Прилог 1
B2: БИЛАНС СТАЊА на дан 31.12.2023. године
F3: у 000 динара
B4: Група рачуна, рачун | C4: П О З И Ц И Ј А | D4: АОП | E4: План на дан 31.12.2023. | F4: Реализација (процена) на дан 31.12.2023.
B5: 1 | C5: 2 | D5: 3 | E5: 4 | F5: 5
C6: АКТИВА
B7: 00 | C7: A. УПИСАНИ А НЕУПЛАЋЕНИ КАПИТАЛ | D7: 0001
C8: Б. СТАЛНА ИМОВИНА | D8: 0002 | E8: 49906 | F8: 51265
C9: (0003 + 0009 + 0017 + 0018 + 0028)
B10: 01 | C10: I. НЕМАТЕРИЈАЛНА ИМОВИНА | D10: 0003 | E10: 16 | F10: 16
C11: (0004 + 0005 + 0006 + 0007 + 0008)
B12: 010 | C12: 1. Улагања у развој | D12: 0004
B13: 011, 012 и 014 | C13: 2. Концесије, патенти, лиценце, робне и услужне марке, софтвер и остала нематеријална имовина | D13: 0005 | E13: 16 | F13: 16
B14: 013 | C14: 3. Гудвил | D14: 0006
B15: 015 и 016 | C15: 4. Нематеријална имовина узета у лизинг и нематеријална имовина у припреми | D15: 0007
B16: 017 | C16: 5. Аванси за нематеријалну имовину | D16: 0008
B17: 02 | C17: II. НЕКРЕТНИНЕ, ПОСТРОЈЕЊА И ОПРЕМА | D17: 0009 | E17: =E19+E20 -> 49890 | F17: 51249
C18: (0010 + 0011 + 0012 + 0013 + 0014 + 0015 + 0016)
B19: 020, 021 и 022 | C19: 1. Земљиште и грађевински објекти | D19: 0010 | E19: 25440 | F19: 25444
B20: 023 | C20: 2. Постројења и опрема | D20: 0011 | E20: 24450 | F20: 25805
B21: 024 | C21: 3. Инвестиционе некретнине | D21: 0012
B22: 025 и 027 | C22: 4. Некретнине, постројења и опрема узети у лизинг и некретнине, постројења и опрема у припреми | D22: 0013
B23: 026 и 028 | C23: 5. Остале некретнине, постројења и опрема и улагања на туђим некретнинама, постројењима и опреми | D23: 0014
B24: 029 (део) | C24: 6. Аванси за некретнине, постројења и опрему у земљи | D24: 0015
B25: 029 (део) | C25: 7. Аванси за некретнине, постројења и опрему у иностранству | D25: 0016
B26: 03 | C26: III. БИОЛОШКА СРЕДСТВА | D26: 0017
B27: 04 и 05 | C27: IV. ДУГОРОЧНИ ФИНАНСИЈСКИ ПЛАСМАНИ И ДУГОРОЧНА ПОТРАЖИВАЊА | D27: 0018
C28: (0019 + 0020 + 0021 + 0022 + 0023 + 0024 + 0025 + 0026 + 0027)
B29: 040 (део), 041 (део) и 042 (део) | C29: 1. Учешћа у капиталу правних лица (осим учешћа у капиталу која се вреднују методом учешћа) | D29: 0019
B30: 040 (део), 041 (део), 042 (део) | C30: 2. Учешћа у капиталу која се вреднују методом учешћа | D30: 0020
B31: 043, 050 (део) и 051 (део) | C31: 3. Дугорочни пласмани матичном, зависним и осталим повезаним лицима и дугорочна потраживања од тих лица у земљи | D31: 0021
B32: 044, 050 (део), 051 (део) | C32: 4. Дугорочни пласмани матичном, зависним и осталим повезаним лицима и дугорочна потраживања од тих лица у иностранству | D32: 0022
B33: 045 (део) и 053 (део) | C33: 5. Дугорочни пласмани (дати кредити и зајмови) у земљи | D33: 0023
B34: 045 (део) и 053 (део) | C34: 6. Дугорочни пласмани (дати кредити и зајмови) у иностранству | D34: 0024
B35: 046 | C35: 7. Дугорочна финансијска улагања (хартије од вредности које се вреднују по амортизованој вредности) | D35: 0025
B36: 047 | C36: 8. Откупљене сопствене акције и откупљени сопствени удели | D36: 0026
B37: 048, 052, 054, 055 и 056 | C37: 9. Остали дугорочни финансијски пласмани и остала дугорочна потраживања | D37: 0027
B38: 28 (део) осим 288 | C38: V. ДУГОРОЧНА АКТИВНА ВРЕМЕНСКА РАЗГРАНИЧЕЊА | D38: 0028
B39: 288 | C39: В. ОДЛОЖЕНА ПОРЕСКА СРЕДСТВА | D39: 0029 | E39: 300
C40: Г. ОБРТНА ИМОВИНА | D40: 0030 | E40: 53200 | F40: 52547
...

Sheet Sheet4
E1: Прилог 1а
A2: БИЛАНС УСПЕХА
A3: за период од 01.01.2023. до 31.12.2023. године
E4: у 000 динара
A5: Група рачуна, рачун | B5: П О З И Ц И Ј А | C5: АОП | D5: План 01.01-31.12.2023. | E5: Реализација (процена) 01.01-31.12.2023.
A6: 1 | B6: 2 | C6: 3 | D6: 4 | E6: 5
B7: A. ПОСЛОВНИ ПРИХОДИ | C7: 1001 | E7: 174031
B8: (1002 + 1005 + 1008 + 1009 - 1010 + 1011 + 1012) | D8: 181080
A9: 60 | B9: I. ПРИХОДИ ОД ПРОДАЈЕ РОБЕ (1003 + 1004) | C9: 1002 | D9: 66145 | E9: 68911
A10: 600, 602 и 604 | B10: 1. Приходи од продаје робе на домаћем тржишту | C10: 1003 | D10: 66145 | E10: 68911
A11: 601, 603 и 605 | B11: 2. Приходи од продаје роба на иностраном тржишту | C11: 1004
A12: 61 | B12: II. ПРИХОДИ ОД ПРОДАЈЕ ПРОИЗВОДА И УСЛУГА (1006 + 1007) | C12: 1005 | D12: 112946 | E12: 101174
A13: 610, 612 и 614 | B13: 1. Приходи од продаје производа и услуга на домаћем тржишту | C13: 1006 | D13: 112946 | E13: 101174
A14: 611, 613 и 615 | B14: 2. Приходи од продаје производа и услуга на иностраном тржишту | C14: 1007
A15: 62 | B15: III. ПРИХОДИ ОД АКТИВИРАЊА УЧИНАКА И РОБЕ | C15: 1008 | D15: 837 | E15: 1100
A16: 630 | B16: IV. ПОВЕЋАЊЕ ВРЕДНОСТИ ЗАЛИХА НЕДОВРШЕНИХ И ГОТОВИХ ПРОИЗВОДА | C16: 1009
A17: 631 | B17: V. СМАЊЕЊЕ ВРЕДНОСТИ ЗАЛИХА НЕДОВРШЕНИХ И ГОТОВИХ ПРОИЗВОДА | C17: 1010
A18: 64 и 65 | B18: VI. ОСТАЛИ ПОСЛОВНИ ПРИХОДИ | C18: 1011 | D18: 1152 | E18: 2846
A19: 68, осим 683, 685 и 686 | B19: VII. ПРИХОДИ ОД УСКЛАЂИВАЊА ВРЕДНОСТИ ИМОВИНЕ (ОСИМ ФИНАНСИЈСКЕ) | C19: 1012
B20: Б. ПОСЛОВНИ РАСХОДИ (1014 + 1015 + 1016 + 1020 + 1021 + 1022 + 1023 + 1024) | C20: 1013 | D20: 181804 | E20: 180921
A21: 50 | B21: I. НАБАВНА ВРЕДНОСТ ПРОДАТЕ РОБЕ | C21: 1014 | D21: 54036 | E21: 62747
A22: 51 | B22: II. ТРОШКОВИ МАТЕРИЈАЛА, ГОРИВА И ЕНЕРГИЈЕ | C22: 1015 | D22: 28420 | E22: 26212
A23: 52 | B23: III. ТРОШКОВИ ЗАРАДА, НАКНАДА ЗАРАДА И ОСТАЛИ ЛИЧНИ РАСХОДИ (1017 + 1018 + 1019) | C23: 1016 | D23: 71517 | E23: =E24+E25+E26 -> 69845
A24: 520 | B24: 1. Трошкови зарада и накнада зарада | C24: 1017 | D24: 56259 | E24: 54061
A25: 521 | B25: 2. Трошкови пореза и доприноса на зараде и накнаде зарада | C25: 1018 | D25: 8523 | E25: 8190
A26: 52 осим 520 и 521 | B26: 3. Остали лични расходи и накнаде | C26: 1019 | D26: 6735 | E26: 7594
A27: 540 | B27: IV. ТРОШКОВИ АМОРТИЗАЦИЈЕ | C27: 1020 | D27: 6800 | E27: 6126
A28: 58, осим 583, 585 и 586 | B28: V. РАСХОДИ ОД УСКЛАЂИВАЊА ВРЕДНОСТИ ИМОВИНЕ (ОСИМ ФИНАНСИЈСКЕ) | C28: 1021
A29: 53 | B29: VI. ТРОШКОВИ ПРОИЗВОДНИХ УСЛУГА | C29: 1022 | D29: 10750 | E29: 7625
A30: 54, осим 540 | B30: VII. ТРОШКОВИ РЕЗЕРВИСАЊА | C30: 1023 | D30: 1000 | E30: 1000
A31: 55 | B31: VIII. НЕМАТЕРИЈАЛНИ ТРОШКОВИ | C31: 1024 | D31: 9281 | E31: 7366
B32: В. ПОСЛОВНИ ДОБИТАК (1001 - 1013) ≥ 0 | C32: 1025
B33: Г. ПОСЛОВНИ ГУБИТАК (1013 - 1001) ≥ 0 | C33: 1026 | D33: 724 | E33: =E20-E7 -> 6890
B34: Д. ФИНАНСИЈСКИ ПРИХОДИ | C34: 1027 | D34: 1047 | E34: 1000
B35: (1028 + 1029 + 1030 + 1031)
A36: 660 и 661 | B36: I. ФИНАНСИЈСКИ ПРИХОДИ ИЗ ОДНОСА СА МАТИЧНИМ, ЗАВИСНИМ И ОСТАЛИМ ПОВЕЗАНИМ ЛИЦИМА | C36: 1028
A37: 662 | B37: II. ПРИХОДИ ОД КАМАТА | C37: 1029 | D37: 1047 | E37: 1000
A38: 663 и 664 | B38: III. ПОЗИТИВНЕ КРУСНЕ РАЗЛИКЕ И ПОЗИТИВНИ ЕФЕКТИ ВАЛУТНЕ КЛАУЗУЛЕ | C38: 1030
A39: 665 и 669 | B39: IV. ОСТАЛИ ФИНАНСИЈСКИ ПРИХОДИ | C39: 1031
B40: Ђ. ФИНАНСИЈСКИ РАСХОДИ | C40: 1032 | D40: 100
...

Sheet Sheet5
D1: Прилог 1б
A2: ИЗВЕШТАЈ О ТОКОВИМА ГОТОВИНЕ
A3: у периоду од 01.01. до 31.12.2023. године
D4: у 000 динара
A5: П О З И Ц И Ј А | B5: АОП | C5: План 01.01-31.12.2023. | D5: Реализација (процена) 01.01-31.12.2023.
A6: 1 | B6: 2 | C6: 3 | D6: 4
A7: A. ТОКОВИ ГОТОВИНЕ ИЗ ПОСЛОВНИХ АКТИВНОСТИ
A8: I. Приливи готовине из пословних активности (1 до 4) | B8: 3001 | C8: 193600 | D8: 194731
A9: 1. Продаја и примљени аванси у земљи | B9: 3002 | C9: 189000 | D9: 190000
A10: 2. Продаја и примљени аванси у иностранству | B10: 3003
A11: 3. Примљене камате из пословних активности | B11: 3004 | C11: 600 | D11: 100
A12: 4. Oстали приливи из редовног пословања | B12: 3005 | C12: 4000 | D12: 4631
A13: II. Одливи готовине из пословних активности (1 до 8) | B13: 3006 | C13: 193600 | D13: 196284
A14: 1. Исплате добављачима и дати аванси у земљи | B14: 3007 | C14: 111900 | D14: 112000
A15: 2. Исплате добављачима и дати аванси у иностранству | B15: 3008
A16: 3. Зараде, накнаде зарада и остали лични расходи | B16: 3009 | C16: 68000 | D16: 68225
A17: 4. Плаћене камате у земљи | B17: 3010
A18: 5. Плаћене камате у иностранству | B18: 3011
A19: 6. Порез на добитак | B19: 3012 | C19: 700 | D19: 612
A20: 7. Одливи по основу осталих јавних прихода | B20: 3013 | C20: 13000 | D20: 14210
A21: 8. Остали одливи из пословних активности | B21: 3014 | D21: 1237
A22: III. Нето прилив готовине из пословних активности (I - II) | B22: 3015
A23: IV. Нето одлив готовине из пословних активности (II - I) | B23: 3016 | D23: 1553
A24: Б. ТОКОВИ ГОТОВИНЕ ИЗ АКТИВНОСТИ ИНВЕСТИРАЊА
A25: I. Приливи готовине из активности инвестирања (1 до 5) | B25: 3017
A26: 1. Продаја акција и удела | B26: 3018
A27: 2. Продаја нематеријалне имовине, некретнина, постројења, опреме и биолошких средстава | B27: 3019
A28: 3. Остали финансијски пласмани | B28: 3020
A29: 4. Примљене камате из активности инвестирања | B29: 3021
A30: 5. Примљене дивиденде | B30: 3022
A31: II. Одливи готовине из активности инвестирања (1 до 3) | B31: 3023
A32: 1. Куповина акција и удела | B32: 3024
A33: 2. Куповина нематеријалне имовине, некретнина, постројења, опреме и биолошких средстава | B33: 3025
A34: 3. Остали финансијски пласмани | B34: 3026
A35: III. Нето прилив готовине из активности инвестирања (I - II) | B35: 3027
A36: IV. Нето одлив готовине из активности инвестирања (II - I) | B36: 3028
A37: В. ТОКОВИ ГОТОВИНЕ ИЗ АКТИВНОСТИ ФИНАНСИРАЊА
A38: I. Приливи готовине из активности финансирања (1 до 7) | B38: 3029
A39: 1. Увећање основног капитала | B39: 3030
A40: 2. Дугорочни кредити у земљи | B40: 3031
...

Sheet Sheet6
I1: Прилог 2
A3: Циљеви јавног предузећа са кључним индикаторима остварења циљева
A5: Циљ | B5: Индикатор | C5: Базна година | D5: Вредност индикатора | H5: Извор провере | I5: Активност за достизање циља
D6: Базна година | E6: 2024. година | F6: 2025. година | G6: 2026. година
A7: замена водомера са даљинским очитавањем | B7: број водомера | C7: 2023 | D7: 7 | E7: 40 | F7: 40 | G7: 40 | H7: Сектор водовода и канализације | I7: набавка водомера и адаптера, повећање ефикасности очитавања
A8: замена водомера -сервис | B8: број водомера | C8: 2023 | D8: 231 | E8: 250 | F8: 300 | G8: 300 | H8: Сектор водовода и канализације | I8: баждарење водомера
A9: повећање потрошње гаса | B9: број нових прикључака | C9: 2023 | D9: 18 | E9: 15 | F9: 15 | G9: 15 | H9: Сектор за дистрибуцију гаса | I9: одобравање повољнијих услова плаћања
A10: Смањење губтака на дистибутивном систему | B10: Број замењених гасомера | C10: 2023 | D10: 46 | E10: 110 | F10: 120 | G10: 120 | H10: Сектор за дистрибуцију гаса | I10: набавка нових и замена старих гасомера
A11: Смањење губтака на дистибутивном систему | B11: Број замењених гасомера | C11: 2023 | D11: 130 | E11: 320 | F11: 320 | G11: 320 | H11: Сектор за дистрибуцију гаса | I11: баждарење и замена старих гасомера

Sheet Sheet7
J1: Прилог 3
A2: 1 | B2: Ниска вероватноћа | C2: 1 | D2: Низак утицај
A3: 2 | B3: Умерена вероватноћа | C3: 2 | D3: Умерен утицај
A4: 3 | B4: Висока вероватноћа | C4: 3 | D4: Висок утицај
B5: Пословни ризици и план управљања ризицима
B7: Ризик | C7: Вероватноћа ризика (1) | E7: Утицај ризика (2) | G7: Укупно (3) | I7: Процењен финансијски ефекат у случају настанка ризика (у 000 дин) | J7: Планиране активности у случају појаве ризика
C8: Избор | D8: Вероватноћа | E8: Избор | F8: Утицај | G8: 3=1*2 | H8: Ефекат ризика
B9: Застарелост потраживања од купаца | C9: 3 | D9: Висока вероватноћа | E9: 3 | F9: Висок утицај | G9: 9 | H9: Критичан ризик | I9: Умањење укупног прихода више од 20% | J9: Слање опомена, утуживање потраживања.репрограми потраживања
B10: Прецизно утврђивање процене вредности јабвне набваке | C10: 3 | D10: Висока вероватноћа | E10: 3 | F10: Висок утицај | G10: 9 | H10: Критичан ризик | I10: Умањење укупног прихода више од 10% | J10: Контрола израде техничке документације,прецизније утврђивање цена по основу детаљне анализе и истраживања тржишта
B30: НАПОМЕНА:
B31: Колона "Вероватноћа ризика" се попуњава по следећој шеми избором из падајућег менија:
B32: Број 1 - Ниска вероватноћа
B33: Број 2 - Умерена вероватноћа
B34: Број 3 - Висока вероватноћа
B36: Колона "Утицај ризика" се попуњава по следећој шеми избором из падајућег менија:
B37: Број 1 - Низак утицај
B38: Број 2 - Умерен утицај
B39: Број 3 - Висок утицај
B41: Колона "Укупно" се попуњава аутоматски

Sheet Sheet8
E1: Прилог 4
A3: Приказ планираних и реализованих индикатора пословања
F5: у 000 динара
C6: 2021. година | D6: 2022. година | E6: 2023. година | F6: 2024. година
A7: Укупни капитал | B7: План | C7: 64822 | D7: 67605 | E7: 69586 | F7: 59631
B8: Реализација | C8: 69329 | D8: 64355 | E8: 59511 | F8: -
B9: % одступања реализације од плана | C9: =IFERROR(C8/C7-1,0) -> 0.069528864 | D9: =IFERROR(D8/D7-1,0) -> -0.048073367 | E9: =IFERROR(E8/E7-1,0) -> -0.14478487 | F9: -
A10: % одступања реализације у односу на реализацију претходне године | C10: - | D10: =IFERROR(D8/C8-1,0) -> -0.071744869 | E10: =IFERROR(E8/D8-1,0) -> -0.075269987 | F10: =IFERROR(F7/E8-1,0) -> 0.0020164339
A11: Укупна имовина | B11: План | C11: 99972 | D11: 114329 | E11: 103400 | F11: 103468
B12: Реализација | C12: 107511 | D12: 104305 | E12: 103812 | F12: -
B13: % одступања реализације од плана | C13: =IFERROR(C12/C11-1,0) -> 0.075411115 | D13: =IFERROR(D12/D11-1,0) -> -0.087676792 | E13: =IFERROR(E12/E11-1,0) -> 0.0039845261 | F13: -
A14: % одступања реализације у односу на реализацију претходне године | C14: - | D14: =IFERROR(D12/C12-1,0) -> -0.029820204 | E14: =IFERROR(E12/D12-1,0) -> -0.0047265232 | F14: =IFERROR(F11/E12-1,0) -> -0.0033136824
A15: Пословни приходи | B15: План | C15: 151374 | D15: 168790 | E15: 181080 | F15: 211953
B16: Реализација | C16: 160679 | D16: 164015 | E16: 174031 | F16: -
B17: % одступања реализације од плана | C17: =IFERROR(C16/C15-1,0) -> 0.061470266 | D17: =IFERROR(D16/D15-1,0) -> -0.028289591 | E17: =IFERROR(E16/E15-1,0) -> -0.038927546 | F17: -
A18: % одступања реализације у односу на реализацију претходне године | C18: - | D18: =IFERROR(D16/C16-1,0) -> 0.020761892 | E18: =IFERROR(E16/D16-1,0) -> 0.061067585 | F18: =IFERROR(F15/E16-1,0) -> 0.21790371
A19: Пословни расходи | B19: План | C19: 151353 | D19: 168784 | E19: 181804 | F19: 214558
B20: Реализација | C20: 154079 | D20: 170150 | E20: 180921 | F20: -
B21: % одступања реализације од плана | C21: =IFERROR(C20/C19-1,0) -> 0.018010875 | D21: =IFERROR(D20/D19-1,0) -> 0.0080931842 | E21: =IFERROR(E20/E19-1,0) -> -0.0048568788 | F21: -
A22: % одступања реализације у односу на реализацију претходне године | C22: - | D22: =IFERROR(D20/C20-1,0) -> 0.10430364 | E22: =IFERROR(E20/D20-1,0) -> 0.063302968 | F22: =IFERROR(F19/E20-1,0) -> 0.18592093
A23: Пословни резултат | B23: План | C23: =C15-C19 -> 21 | D23: =D15-D19 -> 6 | E23: =E15-E19 -> -724 | F23: =F15-F19 -> -2605
B24: Реализација | C24: =C16-C20 -> 6600 | D24: =D16-D20 -> -6135 | E24: =E16-E20 -> -6890 | F24: -
B25: % одступања реализације од плана | C25: =IFERROR(C24/C23-1,0) -> 313.28571 | D25: =IFERROR(D24/D23-1,0) -> -1023.5 | E25: =IFERROR(E24/E23-1,0) -> 8.5165746 | F25: -
A26: % одступања реализације у односу на реализацију претходне године | C26: - | D26: =IFERROR(D24/C24-1,0) -> -1.9295455 | E26: =IFERROR(E24/D24-1,0) -> 0.12306438 | F26: =IFERROR(F23/E24-1,0) -> -0.62191582
A27: Нето резултат | B27: План | C27: 331 | D27: 266 | E27: 256 | F27: 120
B28: Реализација | C28: 4349 | D28: -4757 | E28: -4844 | F28: -
B29: % одступања реализације од плана | C29: =IFERROR(C28/C27-1,0) -> 12.138973 | D29: =IFERROR(D28/D27-1,0) -> -18.883459 | E29: =IFERROR(E28/E27-1,0) -> -19.921875 | F29: -
A30: % одступања реализације у односу на реализацију претходне године | C30: - | D30: =IFERROR(D28/C28-1,0) -> -2.0938147 | E30: =IFERROR(E28/D28-1,0) -> 0.018288838 | F30: =IFERROR(F27/E28-1,0) -> -1.0247729
A32: Број запослених на дан 31.12. | B32: План | C32: 52 | D32: 51 | E32: 50 | F32: 49
B33: Реализација | C33: 50 | D33: 49 | E33: 49 | F33: -
B34: % одступања реализације од плана | C34: =IFERROR(C33/C32-1,0) -> -0.038461538 | D34: =IFERROR(D33/D32-1,0) -> -0.039215686 | E34: =IFERROR(E33/E32-1,0) -> -0.02 | F34: -
A35: % одступања реализације у односу на реализацију претходне године | C35: - | D35: =IFERROR(D33/C33-1,0) -> -0.02 | E35: =IFERROR(E33/D33-1,0) -> 0 | F35: =IFERROR(F32/E33-1,0) -> 0
A36: Просечна нето зарада | B36: План | C36: 57268 | D36: 63004 | E36: 67868 | F36: 76283
B37: Реализација | C37: 57145 | D37: 61833 | E37: 67511 | F37: -
B38: % одступања реализације од плана | C38: =IFERROR(C37/C36-1,0) -> -0.0021477963 | D38: =IFERROR(D37/D36-1,0) -> -0.018586122 | E38: =IFERROR(E37/E36-1,0) -> -0.005260211 | F38: -
A39: % одступања реализације у односу на реализацију претходне године | C39: - | D39: =IFERROR(D37/C37-1,0) -> 0.082036924 | E39: =IFERROR(E37/D37-1,0) -> 0.091827988 | F39: =IFERROR(F36/E37-1,0) -> 0.12993438
A41: Инвестиције | B41: План
B42: Реализација | F42: -
B43: % одступања реализације од плана | C43: =IFERROR(C42/C41-1,0) -> 0 | D43: =IFERROR(D42/D41-1,0) -> 0 | E43: =IFERROR(E42/E41-1,0) -> 0 | F43: -
A44: % одступања реализације у односу на реализацију претходне године | C44: - | D44: =IFERROR(D42/C42-1,0) -> 0 | E44: =IFERROR(E42/D42-1,0) -> 0 | F44: =IFERROR(F41/E42-1,0) -> 0
...

Sheet Sheet9
C3: 2021. година реализација | D3: 2022. година реализација | E3: 2023. година реализација (процена) | F3: План 2024. година
A4: EBITDA | C4: 6078 | D4: 1645 | E4: 1282 | F4: 6120
A5: ROA | C5: 4
A6: ROE | C6: 6
A7: Оперативни новчани ток
A8: Дуг / капитал | C8: 55 | D8: 62 | E8: 74 | F8: 74
A9: Ликвидност | C9: 156 | D9: 156 | E9: 149 | F9: 164
A10: % зарада у пословним приходима | C10: 39 | D10: 40 | E10: 40 | F10: 37
F12: у 000 динара
C13: Стање на дан 31.12.2021. | D13: Стање на дан 31.12.2022. | E13: Стање на дан 31.12.2023. | F13: План на дан 31.12.2024.
A14: Кредитно задужење без гаранције државе
A15: Кредитно задужење са гаранцијом државе
A16: Укупно кредитно задужење | C16: =SUM(C14:C15) -> 0 | D16: =SUM(D14:D15) -> 0 | E16: =SUM(E14:E15) -> 0 | F16: =SUM(F14:F15) -> 0
F18: у 000 динара
C19: 2021. година | D19: 2022. година | E19: 2023. година | F19: План 2024. година
A20: Субвенције | B20: План
B21: Пренето | C21: 47 | F21: -
B22: Реализовано | C22: 47 | F22: -
A23: Остали приходи из буџета | B23: План
B24: Пренето | D24: 1836 | E24: 1956 | F24: -
B25: Реализовано | D25: 1836 | E25: 1956 | F25: -
A26: Укупно приходи из буџета | B26: План
B27: Пренето | C27: 47 | D27: 1836 | E27: 1956 | F27: -
B28: Реализовано | C28: 47 | D28: 1836 | E28: 1956 | F28: -
A34: НАПОМЕНА:
A35: EBITDA (Earnings before Interest, Taxes, Depreciation and Amortization) представља добитак предузећа пре опорезивања који се добија када се одузму само оперативни трошкови, а без искључивања трошкова камате и амортизације. Рачуна се тако што се добитак/губитак пре опорезивања коригује за расходе камата и амортизацију.
A39: ROA (Return on Assets) - Стопа приноса средстава рачуна се: (нето добит / укупна средства ) *100
A40: ROE (Return on Еquity) - Стопа приноса капитала рачуна се: (нето добит / капитал)*100
A41: Оперативни новчани ток - новчани ток из пословних активности
A42: Дуг / капитал представља однос укупног дуга (дугорочна резервисања и обавезе, одложене пореске обавезе и краткорочна резервисања и краткорочне обавезе) и капитала (укупна ставка из пасиве биланса стања) *100.
A44: Ликвидност представља однос (обртна средства / краткорочне обавезе)*100.
A45: % зарада у пословним приходима - (Трошкови зарада, накнада зарада и остали лични расходи / пословни приходи)*100

Sheet Sheet10
G1: Прилог 5.
A2: БИЛАНС СТАЊА на дан 31.12.2024. године
G3: у 000 динара
A4: Група рачуна, рачун | B4: П О З И Ц И Ј А | C4: АОП | D4: Износ
D5: План 31.03.2024. | E5: План 30.06.2024. | F5: План 30.09.2024. | G5: План 31.12.2024.
A6: 1 | B6: 2 | C6: 3 | D6: 4 | E6: 5 | F6: 6 | G6: 7
B7: АКТИВА
A8: 00 | B8: A. УПИСАНИ А НЕУПЛАЋЕНИ КАПИТАЛ | C8: 0001
B9: Б. СТАЛНА ИМОВИНА | C9: 0002 | D9: =D11+D18 -> 49828 | E9: =E11+E18 -> 49754 | F9: =F11+F18 -> 48747 | G9: =G11+G18 -> 46664
B10: (0003 + 0009 + 0017 + 0018 + 0028)
A11: 01 | B11: I. НЕМАТЕРИЈАЛНА ИМОВИНА | C11: 0003 | D11: 12 | E11: 10 | F11: 7 | G11: 4
B12: (0004 + 0005 + 0006 + 0007 + 0008)
A13: 010 | B13: 1. Улагања у развој | C13: 0004
A14: 011, 012 и 014 | B14: 2. Концесије, патенти, лиценце, робне и услужне марке, софтвер и остала нематеријална имовина | C14: 0005 | D14: 12 | E14: 10 | F14: 7 | G14: 4
A15: 013 | B15: 3. Гудвил | C15: 0006
A16: 015 и 016 | B16: 4. Нематеријална имовина узета у лизинг и нематеријална имовина у припреми | C16: 0007
A17: 017 | B17: 5. Аванси за нематеријалну имовину | C17: 0008
A18: 02 | B18: II. НЕКРЕТНИНЕ, ПОСТРОЈЕЊА И ОПРЕМА | C18: 0009 | D18: =D20+D21 -> 49816 | E18: =E20+E21 -> 49744 | F18: =F20+F21 -> 48740 | G18: =G20+G21 -> 46660
B19: (0010 + 0011 + 0012 + 0013 + 0014 + 0015 + 0016)
A20: 020, 021 и 022 | B20: 1. Земљиште и грађевински објекти | C20: 0010 | D20: 25011 | E20: 24568 | F20: 24135 | G20: 23260
A21: 023 | B21: 2. Постројења и опрема | C21: 0011 | D21: 24805 | E21: 25176 | F21: 24605 | G21: 23400
A22: 024 | B22: 3. Инвестиционе некретнине | C22: 0012
A23: 025 и 027 | B23: 4. Некретнине, постројења и опрема узети у лизинг и некретнине, постројења и опрема у припреми | C23: 0013
A24: 026 и 028 | B24: 5. Остале некретнине, постројења и опрема и улагања на туђим некретнинама, постројењима и опреми | C24: 0014
A25: 029 (део) | B25: 6. Аванси за некретнине, постројења и опрему у земљи | C25: 0015
A26: 029 (део) | B26: 7. Аванси за некретнине, постројења и опрему у иностранству | C26: 0016
A27: 03 | B27: III. БИОЛОШКА СРЕДСТВА | C27: 0017
A28: 04 и 05 | B28: IV. ДУГОРОЧНИ ФИНАНСИЈСКИ ПЛАСМАНИ И ДУГОРОЧНА ПОТРАЖИВАЊА | C28: 0018
B29: (0019 + 0020 + 0021 + 0022 + 0023 + 0024 + 0025 + 0026 + 0027)
A30: 040 (део), 041 (део) и 042 (део) | B30: 1. Учешћа у капиталу правних лица (осим учешћа у капиталу која се вреднују методом учешћа) | C30: 0019
A31: 040 (део), 041 (део), 042 (део) | B31: 2. Учешћа у капиталу која се вреднују методом учешћа | C31: 0020
A32: 043, 050 (део) и 051 (део) | B32: 3. Дугорочни пласмани матичном, зависним и осталим повезаним лицима и дугорочна потраживања од тих лица у земљи | C32: 0021
A33: 044, 050 (део), 051 (део) | B33: 4. Дугорочни пласмани матичном, зависним и осталим повезаним лицима и дугорочна потраживања од тих лица у иностранству | C33: 0022
A34: 045 (део) и 053 (део) | B34: 5. Дугорочни пласмани (дати кредити и зајмови) у земљи | C34: 0023
A35: 045 (део) и 053 (део) | B35: 6. Дугорочни пласмани (дати кредити и зајмови) у иностранству | C35: 0024
A36: 046 | B36: 7. Дугорочна финансијска улагања (хартије од вредности које се вреднују по амортизованој вредности) | C36: 0025
A37: 047 | B37: 8. Откупљене сопствене акције и откупљени сопствени удели | C37: 0026
A38: 048, 052, 054, 055 и 056 | B38: 9. Остали дугорочни финансијски пласмани и остала дугорочна потраживања | C38: 0027
A39: 28 (део) осим 288 | B39: V. ДУГОРОЧНА АКТИВНА ВРЕМЕНСКА РАЗГРАНИЧЕЊА | C39: 0028
A40: 288 | B40: В. ОДЛОЖЕНА ПОРЕСКА СРЕДСТВА | C40: 0029
...

Sheet Sheet11
H1: Прилог 5а
B2: БИЛАНС УСПЕХА
B3: за период од 01.01.2024. до 31.12.2024. године
H4: у 000 динара
B6: Група рачуна, рачун | C6: П О З И Ц И Ј А | D6: АОП | E6: Износ
E7: План 01.01-31.03.2024. | F7: План 01.01-30.06.2024. | G7: План 01.01-30.09.2024. | H7: План 01.01-31.12.2024.
B8: 1 | C8: 2 | D8: 3 | E8: 4 | F8: 5 | G8: 6 | H8: 7
C9: A. ПОСЛОВНИ ПРИХОДИ | D9: 1001 | E9: =E11+E14+E20 -> 70074 | F9: =F11+F14+F20 -> 115739 | G9: =G11+G14+G20 -> 146316 | H9: =H11+H14+H17+H20 -> 211953
C10: (1002 + 1005 + 1008 + 1009 - 1010 + 1011 + 1012)
B11: 60 | C11: I. ПРИХОДИ ОД ПРОДАЈЕ РОБЕ (1003 + 1004) | D11: 1002 | E11: =E12 -> 41774 | F11: =F12 -> 54189 | G11: =G12 -> 57116 | H11: =H12 -> 89505
B12: 600, 602 и 604 | C12: 1. Приходи од продаје робе на домаћем тржишту | D12: 1003 | E12: 41774 | F12: 54189 | G12: 57116 | H12: 89505
B13: 601, 603 и 605 | C13: 2. Приходи од продаје роба на иностраном тржишту | D13: 1004
B14: 61 | C14: II. ПРИХОДИ ОД ПРОДАЈЕ ПРОИЗВОДА И УСЛУГА (1006 + 1007) | D14: 1005 | E14: =E15 -> 28000 | F14: =F15 -> 61000 | G14: =G15 -> 88400 | H14: =H15 -> 120248
B15: 610, 612 и 614 | C15: 1. Приходи од продаје производа и услуга на домаћем тржишту | D15: 1006 | E15: 28000 | F15: 61000 | G15: 88400 | H15: 120248
B16: 611, 613 и 615 | C16: 2. Приходи од продаје производа и услуга на иностраном тржишту | D16: 1007
B17: 62 | C17: III. ПРИХОДИ ОД АКТИВИРАЊА УЧИНАКА И РОБЕ | D17: 1008 | H17: 1100
B18: 630 | C18: IV. ПОВЕЋАЊЕ ВРЕДНОСТИ ЗАЛИХА НЕДОВРШЕНИХ И ГОТОВИХ ПРОИЗВОДА | D18: 1009
B19: 631 | C19: V. СМАЊЕЊЕ ВРЕДНОСТИ ЗАЛИХА НЕДОВРШЕНИХ И ГОТОВИХ ПРОИЗВОДА | D19: 1010
B20: 64 и 65 | C20: VI. ОСТАЛИ ПОСЛОВНИ ПРИХОДИ | D20: 1011 | E20: 300 | F20: 550 | G20: 800 | H20: 1100
B21: 68, осим 683, 685 и 686 | C21: VII. ПРИХОДИ ОД УСКЛАЂИВАЊА ВРЕДНОСТИ ИМОВИНЕ (ОСИМ ФИНАНСИЈСКЕ) | D21: 1012
C22: Б. ПОСЛОВНИ РАСХОДИ (1014 + 1015 + 1016 + 1020 + 1021 + 1022 + 1023 + 1024) | D22: 1013 | E22: =E23+E24+E25+E29+E31+E33 -> 73059.829 | F22: =F23+F24+F25+F29+F31+F33 -> 116305 | G22: =G23+G24+G25+G29+G31+G33 -> 148025 | H22: =H23+H24+H25+H29+H31+H33 -> 214558
B23: 50 | C23: I. НАБАВНА ВРЕДНОСТ ПРОДАТЕ РОБЕ | D23: 1014 | E23: 39452 | F23: 50733 | G23: 52919 | H23: 83359
B24: 51 | C24: II. ТРОШКОВИ МАТЕРИЈАЛА, ГОРИВА И ЕНЕРГИЈЕ | D24: 1015 | E24: 8000 | F24: 14400 | G24: 19600 | H24: 28990
B25: 52 | C25: III. ТРОШКОВИ ЗАРАДА, НАКНАДА ЗАРАДА И ОСТАЛИ ЛИЧНИ РАСХОДИ (1017 + 1018 + 1019) | D25: 1016 | E25: =E26+E27+E28 -> 19507.828 | F25: =F26+F27+F28 -> 39472 | G25: =G26+G27+G28 -> 59206 | H25: =H26+H27+H28 -> 78936
B26: 520 | C26: 1. Трошкови зарада и накнада зарада | D26: 1017 | E26: 15319 | F26: 30696 | G26: 46281 | H26: 61896
B27: 521 | C27: 2. Трошкови пореза и доприноса на зараде и накнаде зарада | D27: 1018 | E27: =E26*15.15/100 -> 2320.8285 | F27: 4650 | G27: 7012 | H27: 9377
B28: 52, осим 520 и 521 | C28: 3. Остали лични расходи и накнаде | D28: 1019 | E28: 1868 | F28: 4126 | G28: 5913 | H28: 7663
B29: 540 | C29: IV. ТРОШКОВИ АМОРТИЗАЦИЈЕ | D29: 1020 | E29: 1500 | F29: 3000 | G29: 4500 | H29: 6000
B30: 58, осим 583, 585 и 586 | C30: V. РАСХОДИ ОД УСКЛАЂИВАЊА ВРЕДНОСТИ ИМОВИНЕ (ОСИМ ФИНАНСИЈСКЕ) | D30: 1021
B31: 53 | C31: VI. ТРОШКОВИ ПРОИЗВОДНИХ УСЛУГА | D31: 1022 | E31: 2800 | F31: 5300 | G31: 7200 | H31: 10590
B32: 54, осим 540 | C32: VII. ТРОШКОВИ РЕЗЕРВИСАЊА | D32: 1023
B33: 55 | C33: VIII. НЕМАТЕРИЈАЛНИ ТРОШКОВИ | D33: 1024 | E33: 1800 | F33: 3400 | G33: 4600 | H33: 6683
C34: В. ПОСЛОВНИ ДОБИТАК (1001 - 1013) ≥ 0 | D34: 1025
C35: Г. ПОСЛОВНИ ГУБИТАК (1013 - 1001) ≥ 0 | D35: 1026 | E35: =E22-E9 -> 2985.8285 | F35: =F22-F9 -> 566 | G35: =G22-G9 -> 1709 | H35: =H22-H9 -> 2605
C36: Д. ФИНАНСИЈСКИ ПРИХОДИ | D36: 1027 | E36: =E39 -> 400 | F36: =F39 -> 600 | G36: =G39 -> 1100 | H36: =H39 -> 1420
C37: (1028 + 1029 + 1030 + 1031)
B38: 660 и 661 | C38: I. ФИНАНСИЈСКИ ПРИХОДИ ИЗ ОДНОСА СА МАТИЧНИМ, ЗАВИСНИМ И ОСТАЛИМ ПОВЕЗАНИМ ЛИЦИМА | D38: 1028
